BEGIN:VCALENDAR
VERSION:2.0
PRODID:-//pretix//junge_liberale_Ticketshop//
BEGIN:VTIMEZONE
TZID:Europe/Berlin
BEGIN:STANDARD
DTSTART:20001029T040000
RRULE:FREQ=YEARLY;BYDAY=-1SU;BYMONTH=10
TZNAME:CET
TZOFFSETFROM:+0200
TZOFFSETTO:+0100
END:STANDARD
BEGIN:DAYLIGHT
DTSTART:20000326T030000
RRULE:FREQ=YEARLY;BYDAY=-1SU;BYMONTH=3
TZNAME:CEST
TZOFFSETFROM:+0100
TZOFFSETTO:+0200
END:DAYLIGHT
END:VTIMEZONE
BEGIN:VEVENT
UID:pretix-bremen-u7rwg-0@ticket.julis.de
DTSTART;TZID=Europe/Berlin:20260321T100000
DTEND;TZID=Europe/Berlin:20260321T173000
DESCRIPTION:Tickets: https://ticket.julis.de/bremen/u7rwg/\nEinlass: 21.03.
 2026 09:30\nVeranstalter: junge liberale Bremen
DTSTAMP:20260420T094751Z
LOCATION:Bürgerzentrum Vahr\, Berliner Freiheit 10\, 28327 Bremen
SUMMARY:8. Landeskongress der Jungen Liberalen Bremen
END:VEVENT
END:VCALENDAR
